BEGIN:VCALENDAR
VERSION:2.0
PRODID:-//www.eifoodbank.org//NONSGML kigkonsult.se iCalcreator 2.30.10//
CALSCALE:GREGORIAN
METHOD:PUBLISH
UID:a6ff804b-ff4d-44c6-a468-23534c85358f
X-WR-CALDESC:For some\, Valentine's Day is a perfect reason for flowers\, c
 hocolates and romance. For others\, it's just another day in February. How
 ever you feel about Valentine's Day\, we invite you to have a fun evening 
 out while also helping our neighbors in need at our Valentine Schmalentine
  Food Repack. Your support puts food on tables and smiles on faces through
 out the year. In addition to giving your time\, we invite you to consider 
 donating the cost of a 'night out' to the Eastern Illinois Foodbank. Every
  $1 equals 5 meals for families in need.
X-WR-RELCALID:70fd7810225bf9d393eb082eb8dc3ab4
X-WR-TIMEZONE:America/Chicago
BEGIN:VTIMEZONE
TZID:America/Chicago
BEGIN:STANDARD
TZNAME:CST
DTSTART:20191103T020000
TZOFFSETFROM:-0500
TZOFFSETTO:-0600
RDATE:20201101T020000
END:STANDARD
BEGIN:DAYLIGHT
TZNAME:CDT
DTSTART:20190310T020000
TZOFFSETFROM:-0600
TZOFFSETTO:-0500
RDATE:20200308T020000
RDATE:20210314T020000
END:DAYLIGHT
END:VTIMEZONE
BEGIN:VEVENT
UID:baa2be5c-201a-47bf-8b66-2f91f4041006
DTSTAMP:20260421T081810Z
DESCRIPTION:For some\, Valentine's Day is a perfect reason for flowers\, ch
 ocolates and romance. For others\, it's just another day in February. Howe
 ver you feel about Valentine's Day\, we invite you to have a fun evening o
 ut while also helping our neighbors in need at our Valentine Schmalentine 
 Food Repack. Your support puts food on tables and smiles on faces througho
 ut the year. In addition to giving your time\, we invite you to consider d
 onating the cost of a 'night out' to the Eastern Illinois Foodbank. Every 
 $1 equals 5 meals for families in need.
DTSTART;TZID=America/Chicago:20200214T180000
DTEND;TZID=America/Chicago:20200214T200000
LOCATION:Eastern Illinois Foodbank
SUMMARY:Valentines Schmalentines Repack
END:VEVENT
END:VCALENDAR
